BEGIN:VCALENDAR
VERSION:2.0
PRODID:-//navarradigitalcreators.com - ECPv6.15.18//NONSGML v1.0//EN
CALSCALE:GREGORIAN
METHOD:PUBLISH
X-WR-CALNAME:navarradigitalcreators.com
X-ORIGINAL-URL:https://navarradigitalcreators.com
X-WR-CALDESC:Eventos para navarradigitalcreators.com
REFRESH-INTERVAL;VALUE=DURATION:PT1H
X-Robots-Tag:noindex
X-PUBLISHED-TTL:PT1H
BEGIN:VTIMEZONE
TZID:UTC
BEGIN:STANDARD
TZOFFSETFROM:+0000
TZOFFSETTO:+0000
TZNAME:UTC
DTSTART:20250101T000000
END:STANDARD
END:VTIMEZONE
BEGIN:VEVENT
DTSTART;TZID=UTC:20260327T183000
DTEND;TZID=UTC:20260327T210000
DTSTAMP:20260421T161324
CREATED:20260325T110114Z
LAST-MODIFIED:20260325T111639Z
UID:1542-1774636200-1774645200@navarradigitalcreators.com
SUMMARY:Encuentro de marzo
DESCRIPTION:Nos vemos este viernes 27 de marzo en el Civivox Pompelo (Plaza Salesianos 7\, Pamplona) para el próximo encuentro de Navarra Digital Creators 🎉\nEn esta ocasión nos juntaremos para conocer de primera mano: \n✍️ La ilustración científica con Amets Contese (2d artist). \n👾 Errores y aciertos en el desarrollo de un videojuego indie con Sebastián Lulli (gamedev). \nDespués del encuentro seguiremos con nuestro ya tradicional #networkin para reconectar y seguir creciendo en comunidad 👏 \n⚠️ La actividad es gratuita y no hace falta apuntarse\, pero recomendamos seguir a la asociación por redes y/o discord por posibles cambios de última hora.
URL:https://navarradigitalcreators.com/event/encuentro-marzo/
LOCATION:Civivox Pompelo\, Plaza Salesianos 7\, Pamplona\, Navarra\, 31001\, Spain
ATTACH;FMTTYPE=image/jpeg:https://navarradigitalcreators.com/wp-content/uploads/2026/03/NDC_Cartel_Encuentro_2603.jpg
ORGANIZER;CN="Navarra Digital Creators":MAILTO:info@navarradigitalcreatos.com
END:VEVENT
END:VCALENDAR